BEGIN:VCALENDAR
VERSION:2.0
PRODID:Imitheme.com 
BEGIN:VEVENT
UID:20260425T233756609525360
DTSTAMP;TZID=UTC:20260425T233756
DTSTART;TZID=UTC:20261215T233700
DTEND;TZID=UTC:20261215T233700
SUMMARY:Online-Andacht mit Gerti Rohrmoser
LOCATION:
DESCRIPTION:[caption id=\"attachment_2250\" align=\"alignnone\" width=\"300\"] Gerti Rohrmoser[/caption] Online-Andacht mit Gerti Rohrmoser &nbsp\;
END:VEVENT
END:VCALENDAR
