BEGIN:VCALENDAR
VERSION:2.0
PRODID:Imitheme.com 
BEGIN:VEVENT
UID:20260425T233832722290672
DTSTAMP;TZID=UTC:20260425T233832
DTSTART;TZID=UTC:20261215T233800
DTEND;TZID=UTC:20261215T233800
SUMMARY:Gottesdienst mit Ulrike Wittich
LOCATION:
DESCRIPTION:[caption id=\"attachment_3712\" align=\"alignnone\" width=\"203\"] Ulrike Wittich[/caption] mit Ulrike Wittich GastgeberIn\: G. Seper OrganistIn\: M. Rohrmoser Gemeindekaffee\: Kein Gemeindekaffee &nbsp\;
END:VEVENT
END:VCALENDAR
