BEGIN:VCALENDAR
VERSION:2.0
PRODID:Imitheme.com 
BEGIN:VEVENT
UID:20260425T23270226560061
DTSTAMP;TZID=UTC:20260425T232702
DTSTART;TZID=UTC:20261215T232700
DTEND;TZID=UTC:20261215T232700
SUMMARY:Gottesdienst mit Robert Colditz
LOCATION:
DESCRIPTION:mit Mag. Robert Colditz GastgeberIn\: G. Seper OrganistIn\: J. Wolfram Gemeindekaffee\: Kein Gemeindekaffee &nbsp\;
END:VEVENT
END:VCALENDAR
