BEGIN:VCALENDAR
VERSION:2.0
PRODID:Imitheme.com 
BEGIN:VEVENT
UID:20260425T233758708071166
DTSTAMP;TZID=UTC:20260425T233758
DTSTART;TZID=UTC:20261215T233700
DTEND;TZID=UTC:20261215T233700
SUMMARY:Gottesdienst mit Pfr.i.R. Karl Weinberger\, gleichzeitig \"Kindergottesdienst to go\"
LOCATION:
DESCRIPTION:[caption id=\"attachment_5360\" align=\"alignnone\" width=\"225\"] Karl Weinberger[/caption] mit Pfr.i.R. Karl Weinberger\, gleichzeitig \"Kindergottesdienst to go\"  GastgeberIn\: G. Seper OrganistIn\: M. Rohrmoser Gemeindekaffee\: Kein Gemeindekaffee &nbsp\;
END:VEVENT
END:VCALENDAR
