BEGIN:VCALENDAR
VERSION:2.0
PRODID:Imitheme.com 
BEGIN:VEVENT
UID:20260425T2337331759413051
DTSTAMP;TZID=UTC:20260425T233733
DTSTART;TZID=UTC:20261215T233700
DTEND;TZID=UTC:20261215T233700
SUMMARY:Presbyteriumssitzung
LOCATION:
DESCRIPTION:&nbsp\; Presbyteriumssitzung &nbsp\;
END:VEVENT
END:VCALENDAR
