BEGIN:VCALENDAR
VERSION:2.0
PRODID:Imitheme.com 
BEGIN:VEVENT
UID:20260425T2337072023363334
DTSTAMP;TZID=UTC:20260425T233707
DTSTART;TZID=UTC:20261215T233700
DTEND;TZID=UTC:20261215T233700
SUMMARY:Reformierter Frauentag 2021 / Wegen COVID-19 ABGESAGT!
LOCATION:
DESCRIPTION:[caption id=\"attachment_7285\" align=\"alignleft\" width=\"300\"] Quelle\: Reformierte Kirchengemeinde Oberwart[/caption] &nbsp\; &nbsp\; Der Reformierte Frauentag in Oberwart wurde aus bekannten Gründen auf 2021 verschoben. Wegen COVID-19 ABGESAGT!
END:VEVENT
END:VCALENDAR
