BEGIN:VCALENDAR
VERSION:2.0
PRODID:Imitheme.com 
BEGIN:VEVENT
UID:20260425T2337321844508481
DTSTAMP;TZID=UTC:20260425T233732
DTSTART;TZID=UTC:20261215T233700
DTEND;TZID=UTC:20261215T233700
SUMMARY:Gottesdienst der Evangelischen Frauenarbeit
LOCATION:
DESCRIPTION:[caption id=\"attachment_7286\" align=\"alignleft\" width=\"152\"] Quelle\: Evang. Frauenforum H.B.[/caption] &nbsp\; Die Evangelische Frauenarbeit i.Ö. feiert ihr 80-jähriges Bestehen am Samstag\, 10.10.20 um 15.00 Uhr mit einem Festgottesdienst in der Gustav Adolfkirche in Wien Gumpendorf. &nbsp\;
END:VEVENT
END:VCALENDAR
