BEGIN:VCALENDAR
VERSION:2.0
PRODID:Imitheme.com 
BEGIN:VEVENT
UID:20260425T2337162102161957
DTSTAMP;TZID=UTC:20260425T233716
DTSTART;TZID=UTC:20261215T233700
DTEND;TZID=UTC:20261215T233700
SUMMARY:Penguin’s Club\,1. Treffen
LOCATION:
DESCRIPTION:Penguin’s Club\: Thema\: 1. Treffen &nbsp\;
END:VEVENT
END:VCALENDAR
