BEGIN:VCALENDAR
VERSION:2.0
PRODID:Imitheme.com 
BEGIN:VEVENT
UID:20260425T2337101566796323
DTSTAMP;TZID=UTC:20260425T233710
DTSTART;TZID=UTC:20261215T233700
DTEND;TZID=UTC:20261215T233700
SUMMARY:Schulanfangssegenmit Pfr. Johannes Wittich im Park
LOCATION:
DESCRIPTION:[caption id=\"attachment_3702\" align=\"alignnone\" width=\"225\"] Johannes Wittich[/caption] Schulanfangssegenmit Pfr. Johannes Wittich im Park GastgeberIn\:  OrganistIn\: Gemeindekaffee\: Kein Gemeindekaffee &nbsp\;
END:VEVENT
END:VCALENDAR
