BEGIN:VCALENDAR
VERSION:2.0
PRODID:Imitheme.com 
BEGIN:VEVENT
UID:20260425T232637877243976
DTSTAMP;TZID=UTC:20260425T232637
DTSTART;TZID=UTC:20261215T232600
DTEND;TZID=UTC:20261215T232600
SUMMARY:Besprechung Datenschutz
LOCATION:
DESCRIPTION:Besprechung Datenschutz\: 9\:00-11\:00\: Uwe Warm\, Eva Glaser\, Johannes Wittich\, Franz Radner 11\:00 - 12\:00\: Uwe Warm\, Eva Glaser\, Johannes Wittich\, Prof. Dr. Loader &nbsp\;
END:VEVENT
END:VCALENDAR
