BEGIN:VCALENDAR
VERSION:2.0
PRODID:Imitheme.com 
BEGIN:VEVENT
UID:20260425T2140061417218549
DTSTAMP;TZID=UTC:20260425T214006
DTSTART;TZID=UTC:20261215T214000
DTEND;TZID=UTC:20261215T214000
SUMMARY:Besprechung \"Nachmittagsprogramm\"
LOCATION:
DESCRIPTION:Besprechung \"Nachmittagsprogramm\" mit Inge Schintlmeister\, Jolana Antal und Franz Radner &nbsp\;
END:VEVENT
END:VCALENDAR
