BEGIN:VCALENDAR
VERSION:2.0
PRODID:Imitheme.com 
BEGIN:VEVENT
UID:20260425T213947840851811
DTSTAMP;TZID=UTC:20260425T213947
DTSTART;TZID=UTC:20261215T213900
DTEND;TZID=UTC:20261215T213900
SUMMARY:Klausur des Diakoniums
LOCATION:
DESCRIPTION:Klausur des Diakoniums &nbsp\;
END:VEVENT
END:VCALENDAR
