BEGIN:VCALENDAR
VERSION:2.0
PRODID:Imitheme.com 
BEGIN:VEVENT
UID:20260425T2140061419168866
DTSTAMP;TZID=UTC:20260425T214006
DTSTART;TZID=UTC:20261215T214000
DTEND;TZID=UTC:20261215T214000
SUMMARY:Ungarische Bibelstunde / online
LOCATION:
DESCRIPTION:Wir treffen uns mit Pfr. Károly Nagy\, diesmal online.
END:VEVENT
END:VCALENDAR
