BEGIN:VCALENDAR
VERSION:2.0
PRODID:Imitheme.com 
BEGIN:VEVENT
UID:20260425T214017345900445
DTSTAMP;TZID=UTC:20260425T214017
DTSTART;TZID=UTC:20261215T214000
DTEND;TZID=UTC:20261215T214000
SUMMARY:Alternatives Glaubensgespräch – Zweifeln und Glauben
LOCATION:
DESCRIPTION:Alternatives Glaubensgespräch – Zweifeln und Glauben Liebe Interessierte am Glaubensgespräch! Nach mehreren Wochen öffnen wir nun wieder unsere Türen für Veranstaltungen in überschaubarem Rahmen. Ich hoffe\, es geht euch allen gut und Ihr seid gesund. Wir haben zwischendurch überlegt\, ob wir ein Gespräch über Video versuchen sollen\, sind aber dann...
END:VEVENT
END:VCALENDAR
