BEGIN:VCALENDAR
VERSION:2.0
PRODID:Imitheme.com 
BEGIN:VEVENT
UID:20260425T2140171279557207
DTSTAMP;TZID=UTC:20260425T214017
DTSTART;TZID=UTC:20261215T214000
DTEND;TZID=UTC:20261215T214000
SUMMARY:Raritäten Mini-Flohmarkt in der Gemeinde Wien-West
LOCATION:
DESCRIPTION:Raritäten Mini-Flohmarkt in der Gemeinde Wien-West &nbsp\;
END:VEVENT
END:VCALENDAR
