BEGIN:VCALENDAR
VERSION:2.0
PRODID:Imitheme.com 
BEGIN:VEVENT
UID:20260425T2139472051836091
DTSTAMP;TZID=UTC:20260425T213947
DTSTART;TZID=UTC:20261215T213900
DTEND;TZID=UTC:20261215T213900
SUMMARY:Gottesdienst mit Pfr.i.R. Johann Ulreich
LOCATION:
DESCRIPTION:[caption id=\"attachment_2243\" align=\"alignnone\" width=\"221\"] Johann Ulreich[/caption] mit Pfr.i.R. Johann Ulreich GastgeberIn\: F. Radner OrganistIn\: J. Schleehahn Gemeindekaffee\: Kein Gemeindekaffee &nbsp\;
END:VEVENT
END:VCALENDAR
