BEGIN:VCALENDAR
VERSION:2.0
PRODID:Imitheme.com 
BEGIN:VEVENT
UID:20260425T2140081742736418
DTSTAMP;TZID=UTC:20260425T214008
DTSTART;TZID=UTC:20261215T214000
DTEND;TZID=UTC:20261215T214000
SUMMARY:Besuchskreis
LOCATION:
DESCRIPTION:InteressentInnen mögen sich bitte zwecks vorheriger Rücksprache mit Ursula Kratky über die Pfarrkanzlei in Verbindung setzen. &nbsp\;
END:VEVENT
END:VCALENDAR
