BEGIN:VCALENDAR
VERSION:2.0
PRODID:Imitheme.com 
BEGIN:VEVENT
UID:20260425T213945437063395
DTSTAMP;TZID=UTC:20260425T213945
DTSTART;TZID=UTC:20261215T213900
DTEND;TZID=UTC:20261215T213900
SUMMARY:Andacht mit Gerti Rohrmoser (Pfr. Johannes Wittich)
LOCATION:
DESCRIPTION:Andacht (Gerti Rohrmoser)\, Gebet\, Musik und seelsorgerliches Gespräch mit Pfr. Johannes Wittich GastgeberIn\: --- OrganistIn\: Markus Rohrmoser Gemeindekaffee\: Kein Gemeindekaffee &nbsp\;
END:VEVENT
END:VCALENDAR
