BEGIN:VCALENDAR
VERSION:2.0
PRODID:Imitheme.com 
BEGIN:VEVENT
UID:20260425T213857899840313
DTSTAMP;TZID=UTC:20260425T213857
DTSTART;TZID=UTC:20261215T213800
DTEND;TZID=UTC:20261215T213800
SUMMARY:Presbyterium -  Sitzung (Videokonferenz)
LOCATION:
DESCRIPTION:&nbsp\; &nbsp\; Presbyterium - Sitzung per Videokonferenz (Organisator\: Thomas Schuster) &nbsp\;
END:VEVENT
END:VCALENDAR
