BEGIN:VCALENDAR
VERSION:2.0
PRODID:Imitheme.com 
BEGIN:VEVENT
UID:20260425T2138561417022704
DTSTAMP;TZID=UTC:20260425T213856
DTSTART;TZID=UTC:20261215T213800
DTEND;TZID=UTC:20261215T213800
SUMMARY:Andacht mit Pfr. Johannes Wittich
LOCATION:
DESCRIPTION:Andacht\, Gebet und seelsorgerliches Gespräch mit Pfr. Johannes Wittich. GastgeberIn\: OrganistIn\: Kein Organist Gemeindekaffee\: Kein Gemeindekaffee &nbsp\;
END:VEVENT
END:VCALENDAR
