BEGIN:VCALENDAR
VERSION:2.0
PRODID:Imitheme.com 
BEGIN:VEVENT
UID:20260425T21394544194739
DTSTAMP;TZID=UTC:20260425T213945
DTSTART;TZID=UTC:20261215T213900
DTEND;TZID=UTC:20261215T213900
SUMMARY:Penguin’s Club\, Saisonschluss
LOCATION:
DESCRIPTION:Penguin’s Club\: Thema\: Saisonschluss &nbsp\;
END:VEVENT
END:VCALENDAR
