BEGIN:VCALENDAR
VERSION:2.0
PRODID:Imitheme.com 
BEGIN:VEVENT
UID:20260425T213947758059554
DTSTAMP;TZID=UTC:20260425T213947
DTSTART;TZID=UTC:20261215T213900
DTEND;TZID=UTC:20261215T213900
SUMMARY:Penguin’s Club als Videokonferenz\, Online Spiele
LOCATION:
DESCRIPTION:Penguin’s Club wegen COVID-19 als Videokonferenz (für alle ab 13)\: Kontakt\: yvonne.chytil@chello.at Thema\: Online Spiele &nbsp\;
END:VEVENT
END:VCALENDAR
