BEGIN:VCALENDAR
VERSION:2.0
PRODID:Imitheme.com 
BEGIN:VEVENT
UID:20260425T213833444790422
DTSTAMP;TZID=UTC:20260425T213833
DTSTART;TZID=UTC:20261215T213800
DTEND;TZID=UTC:20261215T213800
SUMMARY:Penguin’s Club\, Sucht / Online - unter Vorbehalt - nähere Info folgt
LOCATION:
DESCRIPTION:Penguin’s Club\: Thema\: Sucht Online - unter Vorbehalt - nähere Info folgt. &nbsp\;
END:VEVENT
END:VCALENDAR
