BEGIN:VCALENDAR
VERSION:2.0
PRODID:Imitheme.com 
BEGIN:VEVENT
UID:20260425T2005221826760701
DTSTAMP;TZID=UTC:20260425T200522
DTSTART;TZID=UTC:20261215T200500
DTEND;TZID=UTC:20261215T200500
SUMMARY:Obstbaum Pflanzung am Wiener Berg / Wegen COVID-19 ABGESAGT / wird voraussichtlich im Herbst 2020 stattfinden
LOCATION:
DESCRIPTION:Einladung zur Obstbaum Pflanzung am Wiener Berg. Wegen COVID-19 ABGESAGT / wird voraussichtlich im Herbst 2020 stattfinden Unsere Gemeinde wird Obstbaumpatin für einen Obstbaum am Wiener Berg. Die Früchte – Apfel\, Birne\, Marille\, Zwetschke\, Ringlotten – sind für alle da. Alle Menschen\, die bei einem der Obstparks vorbei spazieren\, können...
END:VEVENT
END:VCALENDAR
