BEGIN:VCALENDAR
VERSION:2.0
PRODID:Imitheme.com 
BEGIN:VEVENT
UID:20260425T2139471977328005
DTSTAMP;TZID=UTC:20260425T213947
DTSTART;TZID=UTC:20261215T213900
DTEND;TZID=UTC:20261215T213900
SUMMARY:Ungarische Bibelstunde
LOCATION:
DESCRIPTION:Wir treffen uns mit Pfr. Károly Nagy\, immer Dienstags in unserem Gemeindesaal.
END:VEVENT
END:VCALENDAR
