BEGIN:VCALENDAR
VERSION:2.0
PRODID:Imitheme.com 
BEGIN:VEVENT
UID:20260425T2138341283878668
DTSTAMP;TZID=UTC:20260425T213834
DTSTART;TZID=UTC:20261215T213800
DTEND;TZID=UTC:20261215T213800
SUMMARY:Ungarische Bibelstunde über WhatsApp und Telefonkontakte
LOCATION:
DESCRIPTION:Ungarische Bibelstunde wegen COVID-19 über WhatsApp und Telefonkontakte\: Mit Pfr. Karoly Nagy (01/208 21 97) &nbsp\;
END:VEVENT
END:VCALENDAR
