BEGIN:VCALENDAR
VERSION:2.0
PRODID:Imitheme.com 
BEGIN:VEVENT
UID:20260425T213833195200295
DTSTAMP;TZID=UTC:20260425T213833
DTSTART;TZID=UTC:20261215T213800
DTEND;TZID=UTC:20261215T213800
SUMMARY:Gottesdienst mit Gerti Rohrmoser
LOCATION:
DESCRIPTION:[caption id=\"attachment_2250\" align=\"alignnone\" width=\"300\"] Gerti Rohrmoser[/caption] mit Gerti Rohrmoser GastgeberIn\: F. Radner OrganistIn\: Martin Seidl Gemeindekaffee\: Kein Gemeindekaffee &nbsp\;
END:VEVENT
END:VCALENDAR
