BEGIN:VCALENDAR
VERSION:2.0
PRODID:Imitheme.com 
BEGIN:VEVENT
UID:20260425T214007173927317
DTSTAMP;TZID=UTC:20260425T214007
DTSTART;TZID=UTC:20261215T214000
DTEND;TZID=UTC:20261215T214000
SUMMARY:Gottesdienst mit Ulrike Wittich
LOCATION:
DESCRIPTION:[caption id=\"attachment_3712\" align=\"alignnone\" width=\"203\"] Ulrike Wittich[/caption] mit Ulrike Wittich GastgeberIn\: Gerti Seper OrganistIn\: Isabella Kobera Gemeindekaffee\: Kein Gemeindekaffee &nbsp\;
END:VEVENT
END:VCALENDAR
