BEGIN:VCALENDAR
VERSION:2.0
PRODID:Imitheme.com 
BEGIN:VEVENT
UID:20260425T2006351188999624
DTSTAMP;TZID=UTC:20260425T200635
DTSTART;TZID=UTC:20261215T200600
DTEND;TZID=UTC:20261215T200600
SUMMARY:Gottesdienst mit Pfr. Johannes Wittich\, Christi Himmelfahrt
LOCATION:
DESCRIPTION:mit Pfr. Johannes Wittich GastgeberIn\: Gertraud Seper OrganistIn\: Martin Seidl Gemeindekaffee\: Kein Gemeindekaffe &nbsp\; &nbsp\;
END:VEVENT
END:VCALENDAR
