BEGIN:VCALENDAR
VERSION:2.0
PRODID:Imitheme.com 
BEGIN:VEVENT
UID:20260425T200522196050052
DTSTAMP;TZID=UTC:20260425T200522
DTSTART;TZID=UTC:20261215T200500
DTEND;TZID=UTC:20261215T200500
SUMMARY:Andacht mit Ulrike Wittich
LOCATION:
DESCRIPTION:Andacht\, Gebet und seelsorgerliches Gespräch mit Ulrike Wittich. GastgeberIn\: OrganistIn\: Kein Organist Gemeindekaffee\: Kein Gemeindekaffee &nbsp\;
END:VEVENT
END:VCALENDAR
