BEGIN:VCALENDAR
VERSION:2.0
PRODID:Imitheme.com 
BEGIN:VEVENT
UID:20260425T200516646297484
DTSTAMP;TZID=UTC:20260425T200516
DTSTART;TZID=UTC:20261215T200500
DTEND;TZID=UTC:20261215T200500
SUMMARY:Reformierter Frauentag 2020 / Wegen COVID-19 ABGESAGT!
LOCATION:
DESCRIPTION:Wegen COVID-19 ABGESAGT!
END:VEVENT
END:VCALENDAR
