BEGIN:VCALENDAR
VERSION:2.0
PRODID:Imitheme.com 
BEGIN:VEVENT
UID:20260425T200635330034201
DTSTAMP;TZID=UTC:20260425T200635
DTSTART;TZID=UTC:20261215T200600
DTEND;TZID=UTC:20261215T200600
SUMMARY:Vortrag \"Von Qumran bis zum Haus des Petrus\" / Wegen COVID-19 ABGESAGT / VERSCHOBEN!
LOCATION:
DESCRIPTION:Wegen COVID-19 ABGESAGT / VERSCHOBEN! &nbsp\; &nbsp\;
END:VEVENT
END:VCALENDAR
