BEGIN:VCALENDAR
VERSION:2.0
PRODID:Imitheme.com 
BEGIN:VEVENT
UID:20260425T2005161662631602
DTSTAMP;TZID=UTC:20260425T200516
DTSTART;TZID=UTC:20261215T200500
DTEND;TZID=UTC:20261215T200500
SUMMARY:Raritätenflohmarkt / Wegen COVID-19 ABGESAGT!
LOCATION:
DESCRIPTION:Raritätenflohmarkt\: Wegen COVID-19 ABGESAGT! Freitag\, 17. April\: 9\:00 - 13\:00 In der Zwinglikirche\, Schweglerstr. 39\, 1150 Wien
END:VEVENT
END:VCALENDAR
