BEGIN:VCALENDAR
VERSION:2.0
PRODID:Imitheme.com 
BEGIN:VEVENT
UID:20260425T2005171691513883
DTSTAMP;TZID=UTC:20260425T200517
DTSTART;TZID=UTC:20261215T200500
DTEND;TZID=UTC:20261215T200500
SUMMARY:Aktive Senioren\: Lesung und Gespräch mit Pfarrerin i.R. Christine Hubka
LOCATION:
DESCRIPTION:&nbsp\;
END:VEVENT
END:VCALENDAR
