BEGIN:VCALENDAR
VERSION:2.0
PRODID:Imitheme.com 
BEGIN:VEVENT
UID:20260425T200444820344392
DTSTAMP;TZID=UTC:20260425T200444
DTSTART;TZID=UTC:20261215T200400
DTEND;TZID=UTC:20261215T200400
SUMMARY:Literaturcafé / Wegen COVID-19 ABGESAGT!
LOCATION:
DESCRIPTION:Literaturcafé\: Wegen COVID-19 ABGESAGT! &nbsp\;
END:VEVENT
END:VCALENDAR
