BEGIN:VCALENDAR
VERSION:2.0
PRODID:Imitheme.com 
BEGIN:VEVENT
UID:20260425T200445471190104
DTSTAMP;TZID=UTC:20260425T200445
DTSTART;TZID=UTC:20261215T200400
DTEND;TZID=UTC:20261215T200400
SUMMARY:Alternatives Glaubensgespräch – Zweifeln und Glauben / Wegen COVID-19 ABGESAGT!
LOCATION:
DESCRIPTION:Alternatives Glaubensgespräch – Zweifeln und Glauben Wegen COVID-19 ABGESAGT! &nbsp\;
END:VEVENT
END:VCALENDAR
