BEGIN:VCALENDAR
VERSION:2.0
PRODID:Imitheme.com 
BEGIN:VEVENT
UID:20260425T2005111362937122
DTSTAMP;TZID=UTC:20260425T200511
DTSTART;TZID=UTC:20261215T200500
DTEND;TZID=UTC:20261215T200500
SUMMARY:Taizégebet / Wegen COVID-19 ABGESAGT!
LOCATION:
DESCRIPTION:&nbsp\; Taizégebet Wegen COVID-19 ABGESAGT! &nbsp\;
END:VEVENT
END:VCALENDAR
