BEGIN:VCALENDAR
VERSION:2.0
PRODID:Imitheme.com 
BEGIN:VEVENT
UID:20260425T200446555608899
DTSTAMP;TZID=UTC:20260425T200446
DTSTART;TZID=UTC:20261215T200400
DTEND;TZID=UTC:20261215T200400
SUMMARY:Hausversammlung
LOCATION:
DESCRIPTION:[pdf-embedder url=\"http\://www.hb-wiensued.at/wp-content/uploads/2020/02/Hausversammlung_11032020.pdf\"]
END:VEVENT
END:VCALENDAR
