BEGIN:VCALENDAR
VERSION:2.0
PRODID:Imitheme.com 
BEGIN:VEVENT
UID:20260425T213833908610663
DTSTAMP;TZID=UTC:20260425T213833
DTSTART;TZID=UTC:20261215T213800
DTEND;TZID=UTC:20261215T213800
SUMMARY:Presbyteriumssitzung
LOCATION:
DESCRIPTION:Presbyteriumssitzung &nbsp\;
END:VEVENT
END:VCALENDAR
