BEGIN:VCALENDAR
VERSION:2.0
PRODID:Imitheme.com 
BEGIN:VEVENT
UID:20260425T200517815335767
DTSTAMP;TZID=UTC:20260425T200517
DTSTART;TZID=UTC:20261215T200500
DTEND;TZID=UTC:20261215T200500
SUMMARY:Taiwanesischer Chor\, Chorprobe
LOCATION:
DESCRIPTION:Chorprobe des taiwanesischen Chors &nbsp\;
END:VEVENT
END:VCALENDAR
