BEGIN:VCALENDAR
VERSION:2.0
PRODID:Imitheme.com 
BEGIN:VEVENT
UID:20260425T2004441983114010
DTSTAMP;TZID=UTC:20260425T200444
DTSTART;TZID=UTC:20261215T200400
DTEND;TZID=UTC:20261215T200400
SUMMARY:Literaturcafé
LOCATION:
DESCRIPTION:Literaturcafé\: &nbsp\;
END:VEVENT
END:VCALENDAR
