BEGIN:VCALENDAR
VERSION:2.0
PRODID:Imitheme.com 
BEGIN:VEVENT
UID:20260425T200522954909141
DTSTAMP;TZID=UTC:20260425T200522
DTSTART;TZID=UTC:20261215T200500
DTEND;TZID=UTC:20261215T200500
SUMMARY:Literaturcafé
LOCATION:
DESCRIPTION:Literaturcafé\: &nbsp\;
END:VEVENT
END:VCALENDAR
