BEGIN:VCALENDAR
VERSION:2.0
PRODID:Imitheme.com 
BEGIN:VEVENT
UID:20260425T2005161705301911
DTSTAMP;TZID=UTC:20260425T200516
DTSTART;TZID=UTC:20261215T200500
DTEND;TZID=UTC:20261215T200500
SUMMARY:Taizégebet
LOCATION:
DESCRIPTION:Taizégebet &nbsp\;
END:VEVENT
END:VCALENDAR
