BEGIN:VCALENDAR
VERSION:2.0
PRODID:Imitheme.com 
BEGIN:VEVENT
UID:20260425T200523792454723
DTSTAMP;TZID=UTC:20260425T200523
DTSTART;TZID=UTC:20261215T200500
DTEND;TZID=UTC:20261215T200500
SUMMARY:Reisebericht\: „Durch das Heilige Land“
LOCATION:
DESCRIPTION:„Durch das Heilige Land“ – Reisebericht von Monika Gössl
END:VEVENT
END:VCALENDAR
