BEGIN:VCALENDAR
VERSION:2.0
PRODID:Imitheme.com 
BEGIN:VEVENT
UID:20260425T200523843669748
DTSTAMP;TZID=UTC:20260425T200523
DTSTART;TZID=UTC:20261215T200500
DTEND;TZID=UTC:20261215T200500
SUMMARY:Abendmusik und Seminar / Wegen COVID-19 ABGESAGT!
LOCATION:
DESCRIPTION:Abendmusik und Seminar Jazz und Kirche Frauen des Jazz ist das Jahresthema im Jahr 2020\, von Ella Fitzgerald bis Nina Simone. Wegen COVID-19 ABGESAGT! &nbsp\;
END:VEVENT
END:VCALENDAR
