BEGIN:VCALENDAR
VERSION:2.0
PRODID:Imitheme.com 
BEGIN:VEVENT
UID:20260425T2005231267377001
DTSTAMP;TZID=UTC:20260425T200523
DTSTART;TZID=UTC:20261215T200500
DTEND;TZID=UTC:20261215T200500
SUMMARY:Film-Vortrag \"Malaysien\"
LOCATION:
DESCRIPTION:&nbsp\; &nbsp\;
END:VEVENT
END:VCALENDAR
