BEGIN:VCALENDAR
VERSION:2.0
PRODID:Imitheme.com 
BEGIN:VEVENT
UID:20260425T2005101363580644
DTSTAMP;TZID=UTC:20260425T200510
DTSTART;TZID=UTC:20261215T200500
DTEND;TZID=UTC:20261215T200500
SUMMARY:Synode A.B. und 13. Generalsynode / Wegen COVID-19 ABGESAGT.
LOCATION:
DESCRIPTION:Synode A.B. und 13. Generalsynode Die geplante Synode der Evangelischen Kirchen A.B. sowie der gemeinsamen Generalsynode werden aufgrund der anhaltenden Coronakrise abgesagt. Die nächste Generalsynode wird erst im Juni 2021 in Graz stattfinden. &nbsp\;
END:VEVENT
END:VCALENDAR
