BEGIN:VCALENDAR
VERSION:2.0
PRODID:Imitheme.com 
BEGIN:VEVENT
UID:20260425T200523387733383
DTSTAMP;TZID=UTC:20260425T200523
DTSTART;TZID=UTC:20261215T200500
DTEND;TZID=UTC:20261215T200500
SUMMARY:13. Synode HB / Wegen COVID-19 ABGESAGT - nur informelles digitales Treffen
LOCATION:
DESCRIPTION:13. Synode HB Aufgrund der “absehbaren Zuspitzung der Corona-Pandemie” habe sich “eine überwältigende Mehrheit” der Synodalen aber für die Absage der Synode ausgesprochen. Stattdessen werden die Synodalen zu einem informellen digitalen Treffen zusammenkommen. &nbsp\;
END:VEVENT
END:VCALENDAR
