BEGIN:VCALENDAR
VERSION:2.0
PRODID:Imitheme.com 
BEGIN:VEVENT
UID:20260425T2004452121434947
DTSTAMP;TZID=UTC:20260425T200445
DTSTART;TZID=UTC:20261215T200400
DTEND;TZID=UTC:20261215T200400
SUMMARY:Bildungsveranstaltung zum \"Tag des Judentums 2020\"
LOCATION:
DESCRIPTION:[pdf-embedder url=\"http\://www.hb-wiensued.at/wp-content/uploads/2019/12/Knecht_Gottes_Plakat.pdf\"] &nbsp\; Anmeldung bis 10.01.2020\: info@christenundjuden.org oder Tel.\: 01 479 73 76 &nbsp\;
END:VEVENT
END:VCALENDAR
