BEGIN:VCALENDAR
VERSION:2.0
PRODID:Imitheme.com 
BEGIN:VEVENT
UID:20260425T1824411599478583
DTSTAMP;TZID=UTC:20260425T182441
DTSTART;TZID=UTC:20261215T182400
DTEND;TZID=UTC:20261215T182400
SUMMARY:Frauen-Bibelgespräche / Wegen COVID-19 ABGESAGT!
LOCATION:
DESCRIPTION:Dienstags\, um 16 Uhr im Gemeindesaal. Wir beschäftigen uns mit Grundfragen des Glaubens. Herzliche Einladung! Wegen COVID-19 ABGESAGT! &nbsp\;
END:VEVENT
END:VCALENDAR
